BEGIN:VCALENDAR
VERSION:2.0
PRODID:spatie/icalendar-generator
DESCRIPTION:Events from Romy Meekers
X-WR-CALDESC:Events from Romy Meekers
REFRESH-INTERVAL;VALUE=DURATION:PT1440M
X-PUBLISHED-TTL:PT1440M
BEGIN:VTIMEZONE
TZID:Etc/GMT+0
BEGIN:STANDARD
DTSTART:20250629T000000Z
TZOFFSETFROM:+0000
TZOFFSETTO:+0000
END:STANDARD
END:VTIMEZONE
BEGIN:VTIMEZONE
TZID:UTC
BEGIN:STANDARD
DTSTART:20250727T105227Z
TZOFFSETFROM:+0000
TZOFFSETTO:+0000
END:STANDARD
END:VTIMEZONE
BEGIN:VEVENT
UID:77-57
DTSTAMP:20260423T105227Z
SUMMARY:ABSA Ladies Invitational (2026)
LOCATION:Royal Johannesburg 1 Fairway Ave  Johannesburg
ORGANIZER;CN=Romy:MAILTO:romymeekers@gmail.com
DTSTART;TZID=Etc/GMT+0;VALUE=DATE:20260326
DTEND;TZID=Etc/GMT+0;VALUE=DATE:20260329
X-ALT-DESC;FMTTYPE=TEXT/HTML:Royal Johannesburg &amp;amp\; Kensington Golf Club
  is this week's course\, practically in Johannesburg. The DP-world tour pl
 ayed here in the beginning of the season as well.
CATEGORIES:Sunshine Tour
URL;VALUE=URI:https://romymeekers.com/mc-events/absa-ladies-invitational-20
 26-2/
METHOD:PUBLISH
END:VEVENT
END:VCALENDAR