BEGIN:VCALENDAR
VERSION:2.0
PRODID:spatie/icalendar-generator
DESCRIPTION:Events from Romy Meekers
X-WR-CALDESC:Events from Romy Meekers
REFRESH-INTERVAL;VALUE=DURATION:PT1440M
X-PUBLISHED-TTL:PT1440M
BEGIN:VTIMEZONE
TZID:Etc/GMT+0
BEGIN:STANDARD
DTSTART:20250621T000000Z
TZOFFSETFROM:+0000
TZOFFSETTO:+0000
END:STANDARD
END:VTIMEZONE
BEGIN:VTIMEZONE
TZID:UTC
BEGIN:STANDARD
DTSTART:20250727T110414Z
TZOFFSETFROM:+0000
TZOFFSETTO:+0000
END:STANDARD
END:VTIMEZONE
BEGIN:VEVENT
UID:76-56
DTSTAMP:20260423T110414Z
SUMMARY:Platinum Ladies Open (2026)
LOCATION:Blair Atholl Golf &amp;amp\; Equestrian Estate Ashenti Rd 1748  Lanser
 ia
ORGANIZER;CN=Romy:MAILTO:romymeekers@gmail.com
DTSTART;TZID=Etc/GMT+0;VALUE=DATE:20260318
DTEND;TZID=Etc/GMT+0;VALUE=DATE:20260321
X-ALT-DESC;FMTTYPE=TEXT/HTML:This tournament will be played on a Blair Atho
 ll where last year the first editions of the was. Very excited. Just north
  of Johannesburg.
CATEGORIES:Sunshine Tour
URL;VALUE=URI:https://romymeekers.com/mc-events/platinum-ladies-open-2026-2
 /
METHOD:PUBLISH
END:VEVENT
END:VCALENDAR