BEGIN:VCALENDAR
VERSION:2.0
PRODID:spatie/icalendar-generator
DESCRIPTION:Events from Romy Meekers
X-WR-CALDESC:Events from Romy Meekers
REFRESH-INTERVAL;VALUE=DURATION:PT1440M
X-PUBLISHED-TTL:PT1440M
BEGIN:VTIMEZONE
TZID:Etc/GMT+0
BEGIN:STANDARD
DTSTART:20250614T000000Z
TZOFFSETFROM:+0000
TZOFFSETTO:+0000
END:STANDARD
END:VTIMEZONE
BEGIN:VTIMEZONE
TZID:UTC
BEGIN:STANDARD
DTSTART:20250727T112049Z
TZOFFSETFROM:+0000
TZOFFSETTO:+0000
END:STANDARD
END:VTIMEZONE
BEGIN:VEVENT
UID:72-52
DTSTAMP:20260423T112049Z
SUMMARY:Jabra Ladies Classic (2026)
LOCATION:Glendower Golfclub 20 Marais Rd  Edenvale  1612
ORGANIZER;CN=Romy:MAILTO:romymeekers@gmail.com
DTSTART;TZID=Etc/GMT+0;VALUE=DATE:20260311
DTEND;TZID=Etc/GMT+0;VALUE=DATE:20260314
X-ALT-DESC;FMTTYPE=TEXT/HTML:This tournament is played at Glendower\, close
  to Gauteng and just Nord/East from Johannesburg.
CATEGORIES:Sunshine Tour
URL;VALUE=URI:https://romymeekers.com/mc-events/jabra-ladies-classic-2026/
METHOD:PUBLISH
END:VEVENT
END:VCALENDAR