BEGIN:VCALENDAR
VERSION:2.0
PRODID:spatie/icalendar-generator
DESCRIPTION:Events from Romy Meekers
X-WR-CALDESC:Events from Romy Meekers
REFRESH-INTERVAL;VALUE=DURATION:PT1440M
X-PUBLISHED-TTL:PT1440M
BEGIN:VTIMEZONE
TZID:Etc/GMT+0
BEGIN:STANDARD
DTSTART:20250608T000000Z
TZOFFSETFROM:+0000
TZOFFSETTO:+0000
END:STANDARD
END:VTIMEZONE
BEGIN:VTIMEZONE
TZID:UTC
BEGIN:STANDARD
DTSTART:20250727T105904Z
TZOFFSETFROM:+0000
TZOFFSETTO:+0000
END:STANDARD
END:VTIMEZONE
BEGIN:VEVENT
UID:68-48
DTSTAMP:20260423T105904Z
SUMMARY:Standard Bank Ladies Open (2026)
LOCATION:Durbanville Golf Club Sport Way 7550  Cape Town
ORGANIZER;CN=Romy:MAILTO:romymeekers@gmail.com
DTSTART;TZID=Etc/GMT+0;VALUE=DATE:20260305
DTEND;TZID=Etc/GMT+0;VALUE=DATE:20260308
X-ALT-DESC;FMTTYPE=TEXT/HTML:
CATEGORIES:Sunshine Tour
URL;VALUE=URI:https://romymeekers.com/mc-events/standard-bank-ladies-open-2
 026/
METHOD:PUBLISH
END:VEVENT
END:VCALENDAR